BEGIN:VCALENDAR
VERSION:2.0
PRODID:-//eventon.com NONSGML v1.0//EN
BEGIN:VEVENT
UID:69e4dcf548797
DTSTAMP:20260419T154733
DTSTART:20200516T220500Z
DTEND:20200517T215500Z
LOCATION:
SUMMARY:Kleve\,  Comedy & Canapes
DESCRIPTION: Kleve\,  Comedy & Canapes
END:VEVENT
END:VCALENDAR