BEGIN:VCALENDAR
VERSION:2.0
PRODID:-//eventon.com NONSGML v1.0//EN
BEGIN:VEVENT
UID:69e4eeee4a39a
DTSTAMP:20260419T170414
DTSTART:20211104T220500Z
DTEND:20211105T215500Z
LOCATION:
SUMMARY:Swisttal-Morenhofen\,  kreaforum\,  Chill mal
DESCRIPTION: Swisttal-Morenhofen\,  kreaforum\,  Chill mal
END:VEVENT
END:VCALENDAR