BEGIN:VCALENDAR
VERSION:2.0
PRODID:-//eventon.com NONSGML v1.0//EN
BEGIN:VEVENT
UID:69e5087772710
DTSTAMP:20260419T185311
DTSTART:20200908T220000Z
DTEND:20200909T215900Z
LOCATION:
SUMMARY:Ilbesheim\,  Weingut Schmitt\,  Chill mal (wird verlegt)
DESCRIPTION: Ilbesheim\,  Weingut Schmitt\,  Chill mal (wird verlegt)
END:VEVENT
END:VCALENDAR