BEGIN:VCALENDAR
VERSION:2.0
PRODID:-//eventon.com NONSGML v1.0//EN
BEGIN:VEVENT
UID:69e73f8229ee6
DTSTAMP:20260421T111234
DTSTART:20210113T220000Z
DTEND:20210114T215900Z
LOCATION:
SUMMARY:Aachen\,  Franz\,  Abenteuer Pubertät
DESCRIPTION: Aachen\,  Franz\,  Abenteuer Pubertät
END:VEVENT
END:VCALENDAR