BEGIN:VCALENDAR
VERSION:2.0
PRODID:-//eventon.com NONSGML v1.0//EN
BEGIN:VEVENT
UID:69e53812df349
DTSTAMP:20260419T221618
DTSTART:20200514T220000Z
DTEND:20200515T215900Z
LOCATION:
SUMMARY:Kelsterbach\,  Im Atrium\,  Chill mal (verlegt auf 19.05.2021)
DESCRIPTION: Kelsterbach\,  Im Atrium\,  Chill mal (verlegt auf 19.05.2021)
END:VEVENT
END:VCALENDAR