BEGIN:VCALENDAR
VERSION:2.0
PRODID:-//eventon.com NONSGML v1.0//EN
BEGIN:VEVENT
UID:69e5517e06ce6
DTSTAMP:20260420T000446
DTSTART:20210409T220500Z
DTEND:20210410T215500Z
LOCATION:
SUMMARY:Braunschweig\,  Brunsviga\,  Chill mal
DESCRIPTION: Braunschweig\,  Brunsviga\,  Chill mal
END:VEVENT
END:VCALENDAR