BEGIN:VCALENDAR
VERSION:2.0
PRODID:-//eventon.com NONSGML v1.0//EN
BEGIN:VEVENT
UID:69e56b7957b48
DTSTAMP:20260420T015537
DTSTART:20200901T220500Z
DTEND:20200902T215500Z
LOCATION:
SUMMARY:Meiningen\,  Konzertsaal der Musikschule\,  Festakt (nicht öffentlich)
DESCRIPTION: Meiningen\,  Konzertsaal der Musikschule\,  Festakt (nicht öffentlich)
END:VEVENT
END:VCALENDAR