BEGIN:VCALENDAR
VERSION:2.0
PRODID:-//eventon.com NONSGML v1.0//EN
BEGIN:VEVENT
UID:69e586ee33284
DTSTAMP:20260420T035246
DTSTART:20200901T220000Z
DTEND:20200902T215900Z
LOCATION:
SUMMARY:Meiningen\,  Volkshaus\,  Chill mal
DESCRIPTION: Meiningen\,  Volkshaus\,  Chill mal
END:VEVENT
END:VCALENDAR