BEGIN:VCALENDAR
VERSION:2.0
PRODID:-//eventon.com NONSGML v1.0//EN
BEGIN:VEVENT
UID:69e59faf1bfcd
DTSTAMP:20260420T053823
DTSTART:20210408T220500Z
DTEND:20210409T215500Z
LOCATION:
SUMMARY:Schwerin\,  Speicher\,  Chill mal
DESCRIPTION: Schwerin\,  Speicher\,  Chill mal
END:VEVENT
END:VCALENDAR