BEGIN:VCALENDAR
VERSION:2.0
PRODID:-//eventon.com NONSGML v1.0//EN
BEGIN:VEVENT
UID:69e5b87313da8
DTSTAMP:20260420T072403
DTSTART:20201201T220000Z
DTEND:20201202T215900Z
LOCATION:
SUMMARY:Dresden\,  Unterirdische Welten\,  Abenteuer Pubertät
DESCRIPTION: Dresden\,  Unterirdische Welten\,  Abenteuer Pubertät
END:VEVENT
END:VCALENDAR