BEGIN:VCALENDAR
VERSION:2.0
PRODID:-//eventon.com NONSGML v1.0//EN
BEGIN:VEVENT
UID:69e5d28451efc
DTSTAMP:20260420T091516
DTSTART:20210305T220500Z
DTEND:20210306T215500Z
LOCATION:
SUMMARY:Göppingen\,  Altes E-Werk\,  Chill mal
DESCRIPTION: Göppingen\,  Altes E-Werk\,  Chill mal
END:VEVENT
END:VCALENDAR