BEGIN:VCALENDAR
VERSION:2.0
PRODID:-//eventon.com NONSGML v1.0//EN
BEGIN:VEVENT
UID:69e5edd3f3a92
DTSTAMP:20260420T111147
DTSTART:20210227T220000Z
DTEND:20210228T215900Z
LOCATION:
SUMMARY:Duisburg\,  Kulturspielhaus Rumeln\,  Abenteuer Pubertät
DESCRIPTION: Duisburg\,  Kulturspielhaus Rumeln\,  Abenteuer Pubertät
END:VEVENT
END:VCALENDAR