BEGIN:VCALENDAR
VERSION:2.0
PRODID:-//eventon.com NONSGML v1.0//EN
BEGIN:VEVENT
UID:69e6058f89741
DTSTAMP:20260420T125303
DTSTART:20210506T220500Z
DTEND:20210507T215500Z
LOCATION:
SUMMARY:Eschweiler\,  Talbahnhof\,  Chill mal
DESCRIPTION: Eschweiler\,  Talbahnhof\,  Chill mal
END:VEVENT
END:VCALENDAR