BEGIN:VCALENDAR
VERSION:2.0
PRODID:-//eventon.com NONSGML v1.0//EN
BEGIN:VEVENT
UID:69e61c560b9a6
DTSTAMP:20260420T143014
DTSTART:20210319T220000Z
DTEND:20210320T215900Z
LOCATION:
SUMMARY:Köln\,  Senftöpfchen\,  Abenteuer Pubertät
DESCRIPTION: Köln\,  Senftöpfchen\,  Abenteuer Pubertät
END:VEVENT
END:VCALENDAR