BEGIN:VCALENDAR
VERSION:2.0
PRODID:-//eventon.com NONSGML v1.0//EN
BEGIN:VEVENT
UID:69e632b23fdc5
DTSTAMP:20260420T160538
DTSTART:20210421T220000Z
DTEND:20210422T215900Z
LOCATION:
SUMMARY:Stuttgart\,  Theaterhaus T2\,  Abenteuer Pubertät
DESCRIPTION: Stuttgart\,  Theaterhaus T2\,  Abenteuer Pubertät
END:VEVENT
END:VCALENDAR