BEGIN:VCALENDAR
VERSION:2.0
PRODID:-//eventon.com NONSGML v1.0//EN
BEGIN:VEVENT
UID:69e681d57143a
DTSTAMP:20260420T214317
DTSTART:20191012T220500Z
DTEND:20191013T215500Z
LOCATION:
SUMMARY:Hanau\,  Cafe Bar Central\,  Chill mal
DESCRIPTION: Hanau\,  Cafe Bar Central\,  Chill mal
END:VEVENT
END:VCALENDAR