BEGIN:VCALENDAR
VERSION:2.0
PRODID:-//eventon.com NONSGML v1.0//EN
BEGIN:VEVENT
UID:69e69a2287961
DTSTAMP:20260420T232658
DTSTART:20210226T220500Z
DTEND:20210227T215500Z
LOCATION:
SUMMARY:Naumburg (Saale)\,  Kunstwerk Turbinenhaus\,  Chill mal
DESCRIPTION: Naumburg (Saale)\,  Kunstwerk Turbinenhaus\,  Chill mal
END:VEVENT
END:VCALENDAR