BEGIN:VCALENDAR
VERSION:2.0
PRODID:-//eventon.com NONSGML v1.0//EN
BEGIN:VEVENT
UID:69e6b046c98e8
DTSTAMP:20260421T010126
DTSTART:20200304T220500Z
DTEND:20200305T215500Z
LOCATION:
SUMMARY:Zusmarshausen\,  Alte Posthalterei\,  Chill mal
DESCRIPTION: Zusmarshausen\,  Alte Posthalterei\,  Chill mal
END:VEVENT
END:VCALENDAR