BEGIN:VCALENDAR
VERSION:2.0
PRODID:-//eventon.com NONSGML v1.0//EN
BEGIN:VEVENT
UID:69e6cd3546987
DTSTAMP:20260421T030453
DTSTART:20210215T220500Z
DTEND:20210216T215500Z
LOCATION:
SUMMARY:Hannover\,  Apollo Kino\,  Chill mal
DESCRIPTION: Hannover\,  Apollo Kino\,  Chill mal
END:VEVENT
END:VCALENDAR