BEGIN:VCALENDAR
VERSION:2.0
PRODID:-//eventon.com NONSGML v1.0//EN
BEGIN:VEVENT
UID:69e6fe957b98c
DTSTAMP:20260421T063533
DTSTART:20210124T220500Z
DTEND:20210125T215500Z
LOCATION:
SUMMARY:Hannover\,  Apollo Kino\,  Desimo's Spezial Club (Mix)
DESCRIPTION: Hannover\,  Apollo Kino\,  Desimo's Spezial Club (Mix)
END:VEVENT
END:VCALENDAR