BEGIN:VCALENDAR
VERSION:2.0
PRODID:-//eventon.com NONSGML v1.0//EN
BEGIN:VEVENT
UID:69e71ac1e1648
DTSTAMP:20260421T083545
DTSTART:20200903T220000Z
DTEND:20200903T220000Z
LOCATION:
SUMMARY:Münchwald\,  Hubertushalle\,  Abenteuer Pubertät (Tickets unter 06706 960845)
DESCRIPTION: Münchwald\,  Hubertushalle\,  Abenteuer Pubertät (Tickets unter 06706 960845)
END:VEVENT
END:VCALENDAR