BEGIN:VCALENDAR
VERSION:2.0
PRODID:-//eventon.com NONSGML v1.0//EN
BEGIN:VEVENT
UID:69e9d9e01a3c1
DTSTAMP:20260423T103544
DTSTART:20210219T220500Z
DTEND:20210220T215500Z
LOCATION:
SUMMARY:Lörrach\,  Nellie Nashorn\,  Chill mal
DESCRIPTION: Lörrach\,  Nellie Nashorn\,  Chill mal
END:VEVENT
END:VCALENDAR