BEGIN:VCALENDAR
VERSION:2.0
PRODID:-//eventon.com NONSGML v1.0//EN
BEGIN:VEVENT
UID:69e74f824b176
DTSTAMP:20260421T122050
DTSTART:20210303T220500Z
DTEND:20210304T215500Z
LOCATION:
SUMMARY:Wiesbaden\,  Thalhaus Theater\,  Chill mal
DESCRIPTION: Wiesbaden\,  Thalhaus Theater\,  Chill mal
END:VEVENT
END:VCALENDAR