BEGIN:VCALENDAR
VERSION:2.0
PRODID:-//eventon.com NONSGML v1.0//EN
BEGIN:VEVENT
UID:69e7666a4a633
DTSTAMP:20260421T135834
DTSTART:20210306T220000Z
DTEND:20210307T215900Z
LOCATION:
SUMMARY:Bad Kreuznach\,  Jake & Son\,  Abenteuer Pubertät
DESCRIPTION: Bad Kreuznach\,  Jake & Son\,  Abenteuer Pubertät
END:VEVENT
END:VCALENDAR