BEGIN:VCALENDAR
VERSION:2.0
PRODID:-//eventon.com NONSGML v1.0//EN
BEGIN:VEVENT
UID:69e77c22f3646
DTSTAMP:20260421T153114
DTSTART:20210218T220500Z
DTEND:20210219T215500Z
LOCATION:
SUMMARY:Karlsruhe\,  Kabarett in der Orgelfabrik\,  Chill mal
DESCRIPTION: Karlsruhe\,  Kabarett in der Orgelfabrik\,  Chill mal
END:VEVENT
END:VCALENDAR