BEGIN:VCALENDAR
VERSION:2.0
PRODID:-//eventon.com NONSGML v1.0//EN
BEGIN:VEVENT
UID:69e9ef8f69b06
DTSTAMP:20260423T120815
DTSTART:20200827T220500Z
DTEND:20200829T215500Z
LOCATION:
SUMMARY:München\,  Nachtkantine\,  QCC Die Show
DESCRIPTION: München\,  Nachtkantine\,  QCC Die Show
END:VEVENT
END:VCALENDAR