BEGIN:VCALENDAR
VERSION:2.0
PRODID:-//eventon.com NONSGML v1.0//EN
BEGIN:VEVENT
UID:69ea071abf87d
DTSTAMP:20260423T134842
DTSTART:20191118T220500Z
DTEND:20191119T215500Z
LOCATION:
SUMMARY:Mainz\,  Unterhaus\,  Chill mal
DESCRIPTION: Mainz\,  Unterhaus\,  Chill mal
END:VEVENT
END:VCALENDAR