BEGIN:VCALENDAR
VERSION:2.0
PRODID:-//eventon.com NONSGML v1.0//EN
BEGIN:VEVENT
UID:69ea1deb551b8
DTSTAMP:20260423T152603
DTSTART:20201001T220000Z
DTEND:20201002T215900Z
LOCATION:
SUMMARY:Remscheid\,  Rotationstheater\,  Abenteuer Pubertät
DESCRIPTION: Remscheid\,  Rotationstheater\,  Abenteuer Pubertät
END:VEVENT
END:VCALENDAR