BEGIN:VCALENDAR
VERSION:2.0
PRODID:-//eventon.com NONSGML v1.0//EN
BEGIN:VEVENT
UID:69ea335099d2f
DTSTAMP:20260423T165720
DTSTART:20200401T220000Z
DTEND:20200402T215900Z
LOCATION:
SUMMARY:Usingen\,  Mensa der Christian-Wirth-Schule\,  Chill mal (Tickets 06081/14949 und 06081/ 7376) verlegt auf den 19.10.2020
DESCRIPTION: Usingen\,  Mensa der Christian-Wirth-Schule\,  Chill mal (Tickets 06081/14949 und 06081/ 7376) verlegt auf den 19.10.2020
END:VEVENT
END:VCALENDAR