BEGIN:VCALENDAR
VERSION:2.0
PRODID:-//eventon.com NONSGML v1.0//EN
BEGIN:VEVENT
UID:69ea48dd71dfa
DTSTAMP:20260423T182917
DTSTART:20200425T220000Z
DTEND:20200426T215900Z
LOCATION:
SUMMARY:Höxter\,  KuStall Ottbergen\,  Chill mal (verlegt auf den 29.10.2021)
DESCRIPTION: Höxter\,  KuStall Ottbergen\,  Chill mal (verlegt auf den 29.10.2021)
END:VEVENT
END:VCALENDAR