BEGIN:VCALENDAR
VERSION:2.0
PRODID:-//eventon.com NONSGML v1.0//EN
BEGIN:VEVENT
UID:69ea62add83f1
DTSTAMP:20260423T201925
DTSTART:20201127T220500Z
DTEND:20201128T215500Z
LOCATION:
SUMMARY:Trierweiler\,  Gemeindehaus\,  Chill mal
DESCRIPTION: Trierweiler\,  Gemeindehaus\,  Chill mal
END:VEVENT
END:VCALENDAR