BEGIN:VCALENDAR
VERSION:2.0
PRODID:-//eventon.com NONSGML v1.0//EN
BEGIN:VEVENT
UID:69ea7a5d112fa
DTSTAMP:20260423T220029
DTSTART:20201010T220500Z
DTEND:20201011T215500Z
LOCATION:
SUMMARY:Oestrich-Winkel\,  Bretanoscheune\,  Chill mal
DESCRIPTION: Oestrich-Winkel\,  Bretanoscheune\,  Chill mal
END:VEVENT
END:VCALENDAR