BEGIN:VCALENDAR
VERSION:2.0
PRODID:-//eventon.com NONSGML v1.0//EN
BEGIN:VEVENT
UID:69ea93d9b2ec6
DTSTAMP:20260423T234913
DTSTART:20200422T220000Z
DTEND:20200423T215900Z
LOCATION:
SUMMARY:Nassau\,  Leifheit Campus\,  Chill mal (Tickets: foerderverein@leifheit-campus.de) verlegt auf den 11.11.2020
DESCRIPTION: Nassau\,  Leifheit Campus\,  Chill mal (Tickets: foerderverein@leifheit-campus.de) verlegt auf den 11.11.2020
END:VEVENT
END:VCALENDAR