BEGIN:VCALENDAR
VERSION:2.0
PRODID:-//eventon.com NONSGML v1.0//EN
BEGIN:VEVENT
UID:69eaa89494d27
DTSTAMP:20260424T011740
DTSTART:20210225T220500Z
DTEND:20210226T215500Z
LOCATION:
SUMMARY:Rhauderfehn\,  Fehntjer Forum\,  Chill mal
DESCRIPTION: Rhauderfehn\,  Fehntjer Forum\,  Chill mal
END:VEVENT
END:VCALENDAR