BEGIN:VCALENDAR
VERSION:2.0
PRODID:-//eventon.com NONSGML v1.0//EN
BEGIN:VEVENT
UID:69eabe2acd4b5
DTSTAMP:20260424T024946
DTSTART:20210415T220500Z
DTEND:20210416T215500Z
LOCATION:
SUMMARY:München\,  Schlachthof\,  Abenteuer Pubertät
DESCRIPTION: München\,  Schlachthof\,  Abenteuer Pubertät
END:VEVENT
END:VCALENDAR