BEGIN:VCALENDAR
VERSION:2.0
PRODID:-//eventon.com NONSGML v1.0//EN
BEGIN:VEVENT
UID:69ead3689a6a6
DTSTAMP:20260424T042024
DTSTART:20210623T220500Z
DTEND:20210627T215500Z
LOCATION:
SUMMARY:Berlin\,  Quatsch Comedy Club\,  Live Mix (Mix)
DESCRIPTION: Berlin\,  Quatsch Comedy Club\,  Live Mix (Mix)
END:VEVENT
END:VCALENDAR