BEGIN:VCALENDAR
VERSION:2.0
PRODID:-//eventon.com NONSGML v1.0//EN
BEGIN:VEVENT
UID:69eaecbcb2c93
DTSTAMP:20260424T060828
DTSTART:20210203T220500Z
DTEND:20210207T215500Z
LOCATION:
SUMMARY:Berlin\,  Quatsch Comedy Club\,  Live Mix (Mix)
DESCRIPTION: Berlin\,  Quatsch Comedy Club\,  Live Mix (Mix)
END:VEVENT
END:VCALENDAR