BEGIN:VCALENDAR
VERSION:2.0
PRODID:-//eventon.com NONSGML v1.0//EN
BEGIN:VEVENT
UID:69eb0534d9622
DTSTAMP:20260424T075252
DTSTART:20210123T220000Z
DTEND:20210124T215900Z
LOCATION:
SUMMARY:Bremerhaven\,  Theater im Fischereihafen\,  Abenteuer Pubertät
DESCRIPTION: Bremerhaven\,  Theater im Fischereihafen\,  Abenteuer Pubertät
END:VEVENT
END:VCALENDAR