BEGIN:VCALENDAR
VERSION:2.0
PRODID:-//eventon.com NONSGML v1.0//EN
BEGIN:VEVENT
UID:69eb1c58d48d7
DTSTAMP:20260424T093136
DTSTART:20210121T220000Z
DTEND:20210122T215900Z
LOCATION:
SUMMARY:Lutterbek\,  Lutterbeker\,  Abenteuer Pubertät
DESCRIPTION: Lutterbek\,  Lutterbeker\,  Abenteuer Pubertät
END:VEVENT
END:VCALENDAR