BEGIN:VCALENDAR
VERSION:2.0
PRODID:-//eventon.com NONSGML v1.0//EN
BEGIN:VEVENT
UID:69eb3583cde8a
DTSTAMP:20260424T111859
DTSTART:20210114T220000Z
DTEND:20210115T215900Z
LOCATION:
SUMMARY:Langenfeld\,  Schaustall\,  Abenteuer Pubertät
DESCRIPTION: Langenfeld\,  Schaustall\,  Abenteuer Pubertät
END:VEVENT
END:VCALENDAR