BEGIN:VCALENDAR
VERSION:2.0
PRODID:-//eventon.com NONSGML v1.0//EN
BEGIN:VEVENT
UID:69eb4b0a5af20
DTSTAMP:20260424T125050
DTSTART:20200627T220000Z
DTEND:20200628T215900Z
LOCATION:
SUMMARY:Hofheim\,  ShowSpielhaus\,  Gag&Breakfast mit Chill mal (verlegt auf 25.04.2021)
DESCRIPTION: Hofheim\,  ShowSpielhaus\,  Gag&Breakfast mit Chill mal (verlegt auf 25.04.2021)
END:VEVENT
END:VCALENDAR