BEGIN:VCALENDAR
VERSION:2.0
PRODID:-//eventon.com NONSGML v1.0//EN
BEGIN:VEVENT
UID:69eb61dc268e7
DTSTAMP:20260424T142812
DTSTART:20200201T220500Z
DTEND:20200202T215500Z
LOCATION:
SUMMARY:Frankfurt\,  Copper Bar Room\,  Chill mal
DESCRIPTION: Frankfurt\,  Copper Bar Room\,  Chill mal
END:VEVENT
END:VCALENDAR