BEGIN:VCALENDAR
VERSION:2.0
PRODID:-//eventon.com NONSGML v1.0//EN
BEGIN:VEVENT
UID:69eb7954b569d
DTSTAMP:20260424T160820
DTSTART:20190906T220500Z
DTEND:20190907T215500Z
LOCATION:
SUMMARY:Ditzingen\,  Stadtfest\,  Chill mal (Eintritt frei)
DESCRIPTION: Ditzingen\,  Stadtfest\,  Chill mal (Eintritt frei)
END:VEVENT
END:VCALENDAR