BEGIN:VCALENDAR
VERSION:2.0
PRODID:-//eventon.com NONSGML v1.0//EN
BEGIN:VEVENT
UID:69eb941a7bb7a
DTSTAMP:20260424T180234
DTSTART:20190816T220500Z
DTEND:20190817T215500Z
LOCATION:
SUMMARY:Rust\,  Europapark\,  Immer wieder Sonntags (TV-Aufzeichnung)
DESCRIPTION: Rust\,  Europapark\,  Immer wieder Sonntags (TV-Aufzeichnung)
END:VEVENT
END:VCALENDAR