BEGIN:VCALENDAR
VERSION:2.0
PRODID:-//eventon.com NONSGML v1.0//EN
BEGIN:VEVENT
UID:69ebaac31f843
DTSTAMP:20260424T193915
DTSTART:20190701T220500Z
DTEND:20190702T215500Z
LOCATION:
SUMMARY:Bremen\,  Fritz\,  Comedy Club
DESCRIPTION: Bremen\,  Fritz\,  Comedy Club
END:VEVENT
END:VCALENDAR