BEGIN:VCALENDAR
VERSION:2.0
PRODID:-//eventon.com NONSGML v1.0//EN
BEGIN:VEVENT
UID:69ebc234b11d3
DTSTAMP:20260424T211916
DTSTART:20201009T220000Z
DTEND:20201010T215900Z
LOCATION:
SUMMARY:Schüttorf\,  KunstWerk\,  Abenteuer Pubertät
DESCRIPTION: Schüttorf\,  KunstWerk\,  Abenteuer Pubertät
END:VEVENT
END:VCALENDAR