BEGIN:VCALENDAR
VERSION:2.0
PRODID:-//eventon.com NONSGML v1.0//EN
BEGIN:VEVENT
UID:69ebd784aeed9
DTSTAMP:20260424T225012
DTSTART:20210310T220500Z
DTEND:20210311T215500Z
LOCATION:
SUMMARY:Leipzig\,  Leipziger Funzel\,  Chill mal
DESCRIPTION: Leipzig\,  Leipziger Funzel\,  Chill mal
END:VEVENT
END:VCALENDAR