BEGIN:VCALENDAR
VERSION:2.0
PRODID:-//eventon.com NONSGML v1.0//EN
BEGIN:VEVENT
UID:69ebecb6a16bc
DTSTAMP:20260425T002038
DTSTART:20210317T220000Z
DTEND:20210318T215900Z
LOCATION:
SUMMARY:Schweinfurt\,  Disharmonie\,  Abenteuer Pubertät
DESCRIPTION: Schweinfurt\,  Disharmonie\,  Abenteuer Pubertät
END:VEVENT
END:VCALENDAR