BEGIN:VCALENDAR
VERSION:2.0
PRODID:-//eventon.com NONSGML v1.0//EN
BEGIN:VEVENT
UID:69ec05265c55c
DTSTAMP:20260425T020454
DTSTART:20201007T220500Z
DTEND:20201008T215500Z
LOCATION:
SUMMARY:Hannover\,  Leibniz Theater\,  Chill mal
DESCRIPTION: Hannover\,  Leibniz Theater\,  Chill mal
END:VEVENT
END:VCALENDAR