BEGIN:VCALENDAR
VERSION:2.0
PRODID:-//eventon.com NONSGML v1.0//EN
BEGIN:VEVENT
UID:69ec1d6236fe1
DTSTAMP:20260425T034818
DTSTART:20200603T220000Z
DTEND:20200604T215900Z
LOCATION:
SUMMARY:Mettingen\,  Kardinal-von-Galen-Realschule\,  Chill mal (verlegt auf 11.11.2021)
DESCRIPTION: Mettingen\,  Kardinal-von-Galen-Realschule\,  Chill mal (verlegt auf 11.11.2021)
END:VEVENT
END:VCALENDAR